BEGIN:VCALENDAR
VERSION:2.0
PRODID:-//wp-events-plugin.com//7.2.3.1//EN
TZID:Europe/Berlin
X-WR-TIMEZONE:Europe/Berlin
BEGIN:VEVENT
UID:169@kc-unkel.de
DTSTART;TZID=Europe/Berlin;VALUE=DATE:20260227
DTEND;TZID=Europe/Berlin;VALUE=DATE:20260302
DTSTAMP:20260210T103213Z
URL:https://kc-unkel.de/events/jugendherbergstour-3/
SUMMARY:Jugendherbergstour
DESCRIPTION:
CATEGORIES:KCU,Sonstiges
END:VEVENT
BEGIN:VTIMEZONE
TZID:Europe/Berlin
X-LIC-LOCATION:Europe/Berlin
BEGIN:STANDARD
DTSTART:20251026T020000
TZOFFSETFROM:+0200
TZOFFSETTO:+0100
TZNAME:CET
END:STANDARD
END:VTIMEZONE
END:VCALENDAR